BEGIN:VCALENDAR
VERSION:2.0
PRODID:City of Encinitas Calendar Creator
METHOD:PUBLISH
BEGIN:VEVENT
DTSTAMP:20260415T144948
DTSTART:20260429T180000
DTEND:20260429T190000
SUMMARY:Mindsai Gardens CPP Meeting
DESCRIPTION:<p>CPP meeting to discuss the Mindsai Gardens project located at 1967 San Elijo Avenue, Case No. MULTI-8762-2026.</p><p>Project <a href="https://cityofencinitasca-energovweb.tylerhost.net/apps/selfservice#/plan/f76ea893-803b-4fa9-a74c-40c6f96a6d6c" target="_blank" rel="noopener">info</a> and <a href="https://encinitas.prod-as.govaccess.org/home/showpublisheddocument/14052/639118613714430000" target="_blank" rel="noopener">notice</a>.</p><p>Meeting location: 1967 San Elijo Ave (previously Jack-in-the-Box)</p>
X-ALT-DESC;FMTTYPE=text/html:<p>CPP meeting to discuss the Mindsai Gardens project located at 1967 San Elijo Avenue, Case No. MULTI-8762-2026.</p><p>Project <a href="https://cityofencinitasca-energovweb.tylerhost.net/apps/selfservice#/plan/f76ea893-803b-4fa9-a74c-40c6f96a6d6c" target="_blank" rel="noopener">info</a> and <a href="https://encinitas.prod-as.govaccess.org/home/showpublisheddocument/14052/639118613714430000" target="_blank" rel="noopener">notice</a>.</p><p>Meeting location: 1967 San Elijo Ave (previously Jack-in-the-Box)</p>
LOCATION:1967 San Elijo Avenue Cardiff\, California 92007
CLASS:PUBLIC
END:VEVENT
END:VCALENDAR
