BEGIN:VCALENDAR
VERSION:2.0
PRODID:City of Encinitas Calendar Creator
METHOD:PUBLISH
BEGIN:VEVENT
DTSTAMP:20260330T143419
DTSTART:20260404T100000
DTEND:20260404T120000
SUMMARY:Encinitas Spring Egg Hunt
DESCRIPTION:<p>The Spring Egg Hunt has been a cherished Encinitas tradition for over 20&nbsp;years. The event features egg hunts separated on two fields for children under 4 and for ages 5 and up. Adding to the fun is a live performance from Kathryn the Grape, spring crafts, face painting and visits from everyone's favorite bunny. The Egg Hunt is held at the beautiful Encinitas Community Park (Fields 1, 2, &amp; 3), the perfect place to pack a picnic and make a day of it.</p><p>&nbsp;</p><table>    <tbody>        <tr>            <td>            <p>Three Hunt Times<br>            10:15 AM | 11:00 AM | 11:45 AM</p>            <p>Upper Field - Ages 4 &amp; Under<br>            Lower Field - Ages 5 &amp; Up</p>            <p>Remember to bring a basket to collect<br>            all your finds!</p>            </td>            <td><a href="https://www.encinitasca.gov/home/showdocument?id=12101" target="_blank"><br>            </a></td>        </tr>    </tbody></table><p>&nbsp;</p><p>Plan Ahead:</p><p>Free event parking is available at San Dieguito Academy High School (corner of Nardo Road and Melba Road), with a complimentary shuttle service running continuously to and from Encinitas Community Park. Limited parking is available on-site and please note that traffic codes will be enforced.</p><p>Bike-friendly tip: Families are encouraged to ride their bicycles to the event and take advantage of the free bike valet.</p><p><div></div></p>
X-ALT-DESC;FMTTYPE=text/html:<p>The Spring Egg Hunt has been a cherished Encinitas tradition for over 20&nbsp;years. The event features egg hunts separated on two fields for children under 4 and for ages 5 and up. Adding to the fun is a live performance from Kathryn the Grape, spring crafts, face painting and visits from everyone's favorite bunny. The Egg Hunt is held at the beautiful Encinitas Community Park (Fields 1, 2, &amp; 3), the perfect place to pack a picnic and make a day of it.</p><p>&nbsp;</p><table>    <tbody>        <tr>            <td>            <p>Three Hunt Times<br>            10:15 AM | 11:00 AM | 11:45 AM</p>            <p>Upper Field - Ages 4 &amp; Under<br>            Lower Field - Ages 5 &amp; Up</p>            <p>Remember to bring a basket to collect<br>            all your finds!</p>            </td>            <td><a href="https://www.encinitasca.gov/home/showdocument?id=12101" target="_blank"><br>            </a></td>        </tr>    </tbody></table><p>&nbsp;</p><p>Plan Ahead:</p><p>Free event parking is available at San Dieguito Academy High School (corner of Nardo Road and Melba Road), with a complimentary shuttle service running continuously to and from Encinitas Community Park. Limited parking is available on-site and please note that traffic codes will be enforced.</p><p>Bike-friendly tip: Families are encouraged to ride their bicycles to the event and take advantage of the free bike valet.</p><p><div></div></p>
LOCATION:Encinitas Community Park\, 425 Santa Fe Dr Encinitas\, California 92024
CLASS:PUBLIC
END:VEVENT
END:VCALENDAR
