BEGIN:VCALENDAR
VERSION:2.0
PRODID:City of Encinitas Calendar Creator
METHOD:PUBLISH
BEGIN:VEVENT
DTSTAMP:20260309T172832
DTSTART:20260418T180000
DTEND:20260418T200000
SUMMARY:Art Night Encinitas
DESCRIPTION:<p></p><p>Art Night is back this Spring, bringing exciting experiences across four vibrant Encinitas locations: Encinitas City Hall, Encinitas Community Center, Encinitas Library, and the Pacific View Arts Center.</p><p style="margin-left: 40px;">This free, family-friendly event is open to all and features:</p><ul>    <li style="margin-left: 40px;">Live music</li>    <li style="margin-left: 40px;">New art exhibitions showcasing diverse artistic mediums</li>    <li style="margin-left: 40px;">Artist talks, live demonstrations, and meet-the-artist opportunities</li>    <li style="margin-left: 40px;">Hands-on art workshops for all ages</li></ul><p>A complimentary shuttle will connect all main venues, along with participating community sites, galleries and local businesses, making it easy to experience the full spectrum of art throughout the city.</p><p>In recognition of the City’s newly installed civic exhibitions, on display through early May 2026, Art Night will highlight the participating artists: Stephanie Missan at City Hall; Meisha Grichuhin, Carol Lang, and George Facelo at the Encinitas Library, and Kenton Hoppas, Jane Fletcher, Marcy Stinton, and Shadae Talebi at the Community Center.</p><p>Come explore, engage, and be inspired!&nbsp;</p>
X-ALT-DESC;FMTTYPE=text/html:<p></p><p>Art Night is back this Spring, bringing exciting experiences across four vibrant Encinitas locations: Encinitas City Hall, Encinitas Community Center, Encinitas Library, and the Pacific View Arts Center.</p><p style="margin-left: 40px;">This free, family-friendly event is open to all and features:</p><ul>    <li style="margin-left: 40px;">Live music</li>    <li style="margin-left: 40px;">New art exhibitions showcasing diverse artistic mediums</li>    <li style="margin-left: 40px;">Artist talks, live demonstrations, and meet-the-artist opportunities</li>    <li style="margin-left: 40px;">Hands-on art workshops for all ages</li></ul><p>A complimentary shuttle will connect all main venues, along with participating community sites, galleries and local businesses, making it easy to experience the full spectrum of art throughout the city.</p><p>In recognition of the City’s newly installed civic exhibitions, on display through early May 2026, Art Night will highlight the participating artists: Stephanie Missan at City Hall; Meisha Grichuhin, Carol Lang, and George Facelo at the Encinitas Library, and Kenton Hoppas, Jane Fletcher, Marcy Stinton, and Shadae Talebi at the Community Center.</p><p>Come explore, engage, and be inspired!&nbsp;</p>
LOCATION:Encinitas City Hall\, 505 S Vulcan Ave Encinitas\, California 92024-3699
CLASS:PUBLIC
END:VEVENT
END:VCALENDAR
