BEGIN:VCALENDAR
VERSION:2.0
PRODID:City of Encinitas Calendar Creator
METHOD:PUBLISH
BEGIN:VEVENT
DTSTAMP:20260309T131513
DTSTART:20260429T130000
DTEND:20260429T130000
SUMMARY:Weds@Noon: Kensington Baroque Orchestra
DESCRIPTION:<p>The Kensington Baroque Orchestra is a community ensemble composed of professional and amateur musicians, focusing on historically informed 17th and 18th century repertoire and instrumentation.</p><p>Doors open at 11:30am.</p>
X-ALT-DESC;FMTTYPE=text/html:<p>The Kensington Baroque Orchestra is a community ensemble composed of professional and amateur musicians, focusing on historically informed 17th and 18th century repertoire and instrumentation.</p><p>Doors open at 11:30am.</p>
LOCATION:Encinitas Library\, Community Room\, 540 Cornish Drive Encinitas\, California 92024
CLASS:PUBLIC
END:VEVENT
END:VCALENDAR
