BEGIN:VCALENDAR
VERSION:2.0
PRODID:City of Encinitas Calendar Creator
METHOD:PUBLISH
BEGIN:VEVENT
DTSTAMP:20260309T120148
DTSTART:20260415T120000
DTEND:20260415T130000
SUMMARY:Weds@Noon: Albert Hurtado
DESCRIPTION:<p><strong>Albert Hurtado</strong> is a talented jazz guitarist known for his captivating improvisation, soulful tone, and innovative compositions. With a deep appreciation for jazz tradition and a passion for pushing musical boundaries, Hurtado has developed a distinctive style that blends bebop, modern jazz, and Latin influences.</p><p>Doors open at 11:30am.</p>
X-ALT-DESC;FMTTYPE=text/html:<p><strong>Albert Hurtado</strong> is a talented jazz guitarist known for his captivating improvisation, soulful tone, and innovative compositions. With a deep appreciation for jazz tradition and a passion for pushing musical boundaries, Hurtado has developed a distinctive style that blends bebop, modern jazz, and Latin influences.</p><p>Doors open at 11:30am.</p>
LOCATION:Encinitas Library\, Community Room\, 540 Cornish Drive Encinitas\, California 92024
CLASS:PUBLIC
END:VEVENT
END:VCALENDAR
