BEGIN:VCALENDAR
VERSION:2.0
PRODID:City of Encinitas Calendar Creator
METHOD:PUBLISH
BEGIN:VEVENT
DTSTAMP:20260210T164412
DTSTART:20260411T090000
DTEND:20260411T130000
SUMMARY:FREE Universal Waste Collection Event
DESCRIPTION:Encinitas residents-safely dispose of your batteries, bulbs, electronics and sharps at our FREE universal waste collection event. Please bring proof of Encinitas residency (driver's license or utility bill) for this drive-up event. For any questions please email recycling@encinitasca.gov or call 760-633-2777. Need to dispose of your batteries, e-waste, or other Household Hazardous Waste items sooner? Try our curbside collection option by dialing 800-714-1195 to make an appointment!&nbsp;
X-ALT-DESC;FMTTYPE=text/html:Encinitas residents-safely dispose of your batteries, bulbs, electronics and sharps at our FREE universal waste collection event. Please bring proof of Encinitas residency (driver's license or utility bill) for this drive-up event. For any questions please email recycling@encinitasca.gov or call 760-633-2777. Need to dispose of your batteries, e-waste, or other Household Hazardous Waste items sooner? Try our curbside collection option by dialing 800-714-1195 to make an appointment!&nbsp;
LOCATION:Encinitas City Hall\, 505 S Vulcan Ave Encinitas\, California 92024-3699
CLASS:PUBLIC
END:VEVENT
END:VCALENDAR
