BEGIN:VCALENDAR
VERSION:2.0
PRODID:City of Encinitas Calendar Creator
METHOD:PUBLISH
BEGIN:VEVENT
DTSTAMP:20260113T153239
DTSTART:20260428T170000
DTEND:20260428T180000
SUMMARY:Zoning Administrative Hearings
DESCRIPTION:
X-ALT-DESC;FMTTYPE=text/html:
LOCATION:Encinitas City Hall\, 505 S Vulcan Ave Encinitas\, California 92024-3699
CLASS:PUBLIC
END:VEVENT
END:VCALENDAR
