BEGIN:VCALENDAR
VERSION:2.0
PRODID:City of Encinitas Calendar Creator
METHOD:PUBLISH
BEGIN:VEVENT
DTSTAMP:20251211T121456
DTSTART:20260428T163000
DTEND:20260428T180000
SUMMARY:Encinitas Ranch Golf Authority (ERGA) Meeting
DESCRIPTION:Agendas and audio recordings are available at the following link:&nbsp;&nbsp;<a href="https://www.encinitasca.gov/government/agendas-webcasts" target="_blank">https://www.encinitasca.gov/government/agendas-webcasts&nbsp;</a>
X-ALT-DESC;FMTTYPE=text/html:Agendas and audio recordings are available at the following link:&nbsp;&nbsp;<a href="https://www.encinitasca.gov/government/agendas-webcasts" target="_blank">https://www.encinitasca.gov/government/agendas-webcasts&nbsp;</a>
LOCATION:Encinitas Ranch Golf Course Clubhouse\, 1275 Quail Gardens Drive Encinitas\, California 92081
CLASS:PUBLIC
END:VEVENT
END:VCALENDAR
