BEGIN:VCALENDAR
VERSION:2.0
PRODID:City of Encinitas Calendar Creator
METHOD:PUBLISH
BEGIN:VEVENT
DTSTAMP:20251211T120250
DTSTART:20260422T180000
DTEND:20260422T230000
SUMMARY:Regular City Council Meeting
DESCRIPTION:Meeting agendas are located on the City's&nbsp;<a href="https://www.encinitasca.gov/government/agendas-webcasts/-fsiteid-1#!/" target="_blank">agendas and webcasts page</a>.&nbsp;
X-ALT-DESC;FMTTYPE=text/html:Meeting agendas are located on the City's&nbsp;<a href="https://www.encinitasca.gov/government/agendas-webcasts/-fsiteid-1#!/" target="_blank">agendas and webcasts page</a>.&nbsp;
LOCATION:Encinitas City Hall\, 505 S Vulcan Ave Encinitas\, California 92024-3699
CLASS:PUBLIC
END:VEVENT
END:VCALENDAR
