BEGIN:VCALENDAR
VERSION:2.0
PRODID:City of Encinitas Calendar Creator
METHOD:PUBLISH
BEGIN:VEVENT
DTSTAMP:20260402T070809
DTSTART:20260423T173000
DTEND:20260423T193000
SUMMARY:Urban Forest Advisory Committee (UFAC)
DESCRIPTION:Council Chambers
X-ALT-DESC;FMTTYPE=text/html:Council Chambers
LOCATION:Encinitas City Hall\, 505 S Vulcan Ave Encinitas\, California 92024-3699
CLASS:PUBLIC
END:VEVENT
END:VCALENDAR
