BEGIN:VCALENDAR
VERSION:2.0
PRODID:City of Encinitas Calendar Creator
METHOD:PUBLISH
BEGIN:VEVENT
DTSTAMP:20260106T143153
DTSTART:20260406T170000
DTEND:20260406T190000
SUMMARY:Commission for the Arts Meeting
DESCRIPTION:<p>Regular meetings are the first Monday of every month at 5:00 p.m. <br abp="724">City Council Chambers located at 505 South Vulcan Avenue, Encinitas, CA 92024</p><ul abp="719">    <li abp="720">    <h5 abp="721">Contact Name</h5>    </li>    <li abp="720">    <p><span style="color: rgb(5, 37, 38); font-size: 16px;">Dave Knopp</span></p>    </li>    <li abp="720">    <h5 abp="721">Contact Email</h5>    <p abp="730"><a href="mailto:&#112;&#114;&#99;&#97;&#64;&#101;&#110;&#99;&#105;&#110;&#105;&#116;&#97;&#115;&#99;&#97;&#46;&#103;&#111;&#118;">prca@encinitasca.gov</a></p>    </li>    <li abp="732">    <h5 abp="733">Contact Phone</h5>    <p abp="734">760-633-2740</p>    </li></ul>
X-ALT-DESC;FMTTYPE=text/html:<p>Regular meetings are the first Monday of every month at 5:00 p.m. <br abp="724">City Council Chambers located at 505 South Vulcan Avenue, Encinitas, CA 92024</p><ul abp="719">    <li abp="720">    <h5 abp="721">Contact Name</h5>    </li>    <li abp="720">    <p><span style="color: rgb(5, 37, 38); font-size: 16px;">Dave Knopp</span></p>    </li>    <li abp="720">    <h5 abp="721">Contact Email</h5>    <p abp="730"><a href="mailto:&#112;&#114;&#99;&#97;&#64;&#101;&#110;&#99;&#105;&#110;&#105;&#116;&#97;&#115;&#99;&#97;&#46;&#103;&#111;&#118;">prca@encinitasca.gov</a></p>    </li>    <li abp="732">    <h5 abp="733">Contact Phone</h5>    <p abp="734">760-633-2740</p>    </li></ul>
LOCATION:Encinitas City Hall\, 505 S Vulcan Ave Encinitas\, California 92024-3699
CLASS:PUBLIC
END:VEVENT
END:VCALENDAR
