BEGIN:VCALENDAR
VERSION:2.0
PRODID:City of Encinitas Calendar Creator
METHOD:PUBLISH
BEGIN:VEVENT
DTSTAMP:20260330T124843
DTSTART:20260407T163000
DTEND:20260407T183000
SUMMARY:Youth Commission Regular Meeting
DESCRIPTION:<p>Regular meetings are the first Wednesday of every month at 4:30 p.m. The Youth Commission&nbsp;is dark in July - August.<br abp="724">City Council Chambers located at 505 South Vulcan Avenue, Encinitas, CA 92024</p><ul>    <li><strong>Contact Name</strong>    <ul>        <li>Elle Camarena, Recreation Supervisor</li>    </ul>    </li>    <li><strong>Contact Email</strong>    <ul>        <li><a href="mailto:">ecamarena@encinitasca.gov</a></li>    </ul>    </li>    <li><strong>Contact Phone</strong>    <ul>        <li>760-943-2261</li>    </ul>    </li></ul>
X-ALT-DESC;FMTTYPE=text/html:<p>Regular meetings are the first Wednesday of every month at 4:30 p.m. The Youth Commission&nbsp;is dark in July - August.<br abp="724">City Council Chambers located at 505 South Vulcan Avenue, Encinitas, CA 92024</p><ul>    <li><strong>Contact Name</strong>    <ul>        <li>Elle Camarena, Recreation Supervisor</li>    </ul>    </li>    <li><strong>Contact Email</strong>    <ul>        <li><a href="mailto:">ecamarena@encinitasca.gov</a></li>    </ul>    </li>    <li><strong>Contact Phone</strong>    <ul>        <li>760-943-2261</li>    </ul>    </li></ul>
LOCATION:Encinitas City Hall\, 505 S Vulcan Ave Encinitas\, California 92024-3699
CLASS:PUBLIC
END:VEVENT
END:VCALENDAR
