BEGIN:VCALENDAR
VERSION:2.0
PRODID:City of Encinitas Calendar Creator
METHOD:PUBLISH
BEGIN:VEVENT
DTSTAMP:20251021T105552
DTSTART:20260421T140000
DTEND:20260421T160000
SUMMARY:Senior Commission Meeting
DESCRIPTION:Regular meetings are the third Tuesday of every month at 2:00 p.m. The Senior Citizen Commission is dark July and December.<br abp="724">City Council Chambers located at 505 South Vulcan Avenue, Encinitas, CA 92024<br><br><strong>Contact</strong><br>Christie Goodsell, Senior Center Manager<br><a abp="731" data-cke-saved-href="mailto:cgoodsell@encinitasca.gov" href="mailto:cgoodsell@encinitasca.gov" target="_blank">cgoodsell@encinitasca.go</a>v<br>760-943-2251
X-ALT-DESC;FMTTYPE=text/html:Regular meetings are the third Tuesday of every month at 2:00 p.m. The Senior Citizen Commission is dark July and December.<br abp="724">City Council Chambers located at 505 South Vulcan Avenue, Encinitas, CA 92024<br><br><strong>Contact</strong><br>Christie Goodsell, Senior Center Manager<br><a abp="731" data-cke-saved-href="mailto:cgoodsell@encinitasca.gov" href="mailto:cgoodsell@encinitasca.gov" target="_blank">cgoodsell@encinitasca.go</a>v<br>760-943-2251
LOCATION:Encinitas City Hall\, 505 S Vulcan Ave Encinitas\, California 92024-3699
CLASS:PUBLIC
END:VEVENT
END:VCALENDAR
