BEGIN:VCALENDAR
VERSION:2.0
PRODID:City of Encinitas Calendar Creator
METHOD:PUBLISH
BEGIN:VEVENT
DTSTAMP:20251021T104425
DTSTART:20260421T173000
DTEND:20260421T193000
SUMMARY:Parks and Recreation Commission Meeting
DESCRIPTION:<p>Regular meetings are the third Tuesday of every month at 5:30 p.m. The Parks and Recreation Commission is dark in December and July.<br abp="724">City Council Chambers located at 505 South Vulcan Avenue, Encinitas, CA 92024</p><ul abp="719">    <li abp="720">    <h5 abp="721">Contact Name</h5>    </li>    <li abp="725">    <p abp="727">David Norgard, Park Operations Manager</p>    </li>    <li abp="728">    <h5 abp="729">Contact Email</h5>    <p abp="730">dnorgard@encinitasca.gov</p>    </li>    <li abp="732">    <h5 abp="733">Contact Phone</h5>    <p abp="734">760-633-2755</p>    </li></ul>
X-ALT-DESC;FMTTYPE=text/html:<p>Regular meetings are the third Tuesday of every month at 5:30 p.m. The Parks and Recreation Commission is dark in December and July.<br abp="724">City Council Chambers located at 505 South Vulcan Avenue, Encinitas, CA 92024</p><ul abp="719">    <li abp="720">    <h5 abp="721">Contact Name</h5>    </li>    <li abp="725">    <p abp="727">David Norgard, Park Operations Manager</p>    </li>    <li abp="728">    <h5 abp="729">Contact Email</h5>    <p abp="730">dnorgard@encinitasca.gov</p>    </li>    <li abp="732">    <h5 abp="733">Contact Phone</h5>    <p abp="734">760-633-2755</p>    </li></ul>
LOCATION:Encinitas City Hall\, 505 S Vulcan Ave Encinitas\, California 92024-3699
CLASS:PUBLIC
END:VEVENT
END:VCALENDAR
